Workbook

Sheet Summary
A1: Weight Tracker
B2: User name | C2: Alarion Stormrider
B3: Date Of Birth | C3: 22062
B4: Unit of Measure | C4: kg
B5: Initial Weight | C5: 50
B6: Weight Goals | C6: 50
B7: Unit of Measure | C7: meters
B8: Height | C8: 1.7
B9: Average Weight | C9: =ROUND(AVERAGE('Tracking Entries'!B3:B33),0) -> 50
B10: BMI Calculation | C10: =ROUNDUP(C9/(C8*C8),0) -> 18
A11: Trend Analysis: | B11: Week 1 Average | C11: =ROUNDUP(SUM('Tracking Entries'!B3:B9)/7,0) -> 51
B12: Week 2 Average | C12: =ROUNDUP(SUM('Tracking Entries'!B10:B16)/7,0) -> 51
B13: Week 3 Average | C13: =ROUNDUP(SUM('Tracking Entries'!B16:B23)/7,0) -> 58
B14: Week 4 Average | C14: =ROUNDUP(SUM('Tracking Entries'!B23:B30)/7,0) -> 59
B15: Weekly Average | C15: =ROUNDUP(SUM(C11:C14)/4,0) -> 55
A16: Visual Representation:
A39: We value your privacy and require your consent to collect and process your personal data solely for the purpose of providing our services.
A40: By continuing to use our website/app, you agree to our Privacy Policy and Terms of Service.
A41: You can manage your data preferences in your account settings at any time.
A42: Signature

Sheet Tracking Entries
A1: Start Date | B1: 45139
A2: Date | B2: Weight | C2: BMI | D2: Hip circumference | E2: Waist circumference | F2: Body fat percentage | G2: Notes or Comments | H2: Signature
A3: 1 | B3: 50 | C3: =ROUNDUP(B3/(Summary!$C$8*Summary!$C$8),0) -> 18
A4: 2 | B4: 51 | C4: =ROUNDUP(B4/(Summary!$C$8*Summary!$C$8),0) -> 18
A5: 3 | B5: 52 | C5: =ROUNDUP(B5/(Summary!$C$8*Summary!$C$8),0) -> 18
A6: 4 | B6: 49 | C6: =ROUNDUP(B6/(Summary!$C$8*Summary!$C$8),0) -> 17
A7: 5 | B7: 50 | C7: =ROUNDUP(B7/(Summary!$C$8*Summary!$C$8),0) -> 18
A8: 6 | B8: 52 | C8: =ROUNDUP(B8/(Summary!$C$8*Summary!$C$8),0) -> 18
A9: 7 | B9: 50 | C9: =ROUNDUP(B9/(Summary!$C$8*Summary!$C$8),0) -> 18
A10: 8 | B10: 51.5 | C10: =ROUNDUP(B10/(Summary!$C$8*Summary!$C$8),0) -> 18
A11: 9 | B11: 51 | C11: =ROUNDUP(B11/(Summary!$C$8*Summary!$C$8),0) -> 18
A12: 10 | B12: 52 | C12: =ROUNDUP(B12/(Summary!$C$8*Summary!$C$8),0) -> 18
A13: 11 | B13: 50 | C13: =ROUNDUP(B13/(Summary!$C$8*Summary!$C$8),0) -> 18
A14: 12 | B14: 49.5 | C14: =ROUNDUP(B14/(Summary!$C$8*Summary!$C$8),0) -> 18
... A33: 31 | B33: 49 | C33: =ROUNDUP(B33/(Summary!$C$8*Summary!$C$8),0) -> 17
A34: We value your privacy and require your consent to collect and process your personal data solely for the purpose of providing our services.
A35: By continuing to use our website/app, you agree to our Privacy Policy and Terms of Service.
A36: You can manage your data preferences in your account settings at any time.
