Workbook

Sheet Body Building Tracker
A1: Body Building Tracking
A2: Benchmark and store your progress using this sheet
A3: Name: | B3: Jessica Davis | C3: Your strength and performance metric are here
A4: Body weight: | B4: 60 | C4: You are at the | D4: {=IFERROR(INDEX('Benchmarking Data'!B3:E3,MATCH(LARGE(INDEX('Benchmarking Data'!B4:E8,MATCH(B6,'Benchmarking Data'!A4:A8,0),0),COUNTIF(INDEX('Benchmarking Data'!B4:E8,MATCH(B6,'Benchmarking Data'!A4:A8,0),0),">"&E6)+1),INDEX('Benchmarking Data'!B4:E8,MATCH(B6,'Benchmarking Data'!A4:A8,0),0),0)),"∞")} -> Level "VIP"
A5: Age: | B5: 40 | C5: Your next stage is | D5: {=IF(E6<C10,"Level 1",IFERROR(INDEX('Benchmarking Data'!B3:E3,MATCH(D4,'Benchmarking Data'!B3:E3,0)+1),"∞"))} -> ∞
A6: An excersice: | B6: Bench Press | C6: This is because of your one rep max is | E6: =ROUND(B8/(1.0278-(0.0278*B7)),0) -> 144 | F6: ='Benchmarking Data'!H2 -> Kilogram
A7: The repititions: | B7: 12 | C7: The next challenge for this excercise is | E7: {=IF(E6<C10,INDEX(C10,0,0),IFERROR(INDEX(INDEX('Benchmarking Data'!B4:E8,MATCH(B6,'Benchmarking Data'!A4:A8,0),0),MATCH(D4,'Benchmarking Data'!B3:E3,0)+1),"∞"))} -> ∞ | F7: ='Benchmarking Data'!H2 -> Kilogram
A8: Lifting a weight | B8: 100 | C8: This is your class within the caste system
A9: Height | B9: 1.7 | C9: {=INDEX('Benchmarking Data'!B3:E3,0)} -> Level 1 | D9: Level 2 | E9: Level "Serious" | F9: Level "VIP"
A10: Fat percentage | B10: 0.55 | C10: {=INDEX('Benchmarking Data'!B4:E8,MATCH(B6,'Benchmarking Data'!A4:A8,0),0)} -> 10 | D10: 70 | E10: 100 | F10: 130
A11: BMI | B11: =ROUND(B4/B9^2,0) -> 21 | C11: =IF(D4="Level 1","⬆️","") | D11: =IF(D4="Level 2","⬆️","") | E11: =IF(D4="Level ""Serious""","⬆️","") | F11: =IF(D4="Level ""VIP""","⬆️","") -> ⬆️
C12: =IF(D4="Level 1","You are here!","") | D12: =IF(D4="Level 2","You are here!","") | E12: =IF(D4="Level ""Serious""","You are here!","") | F12: =IF(D4="Level ""VIP""","You are here!","") -> You are here!
A13: Add your photo to the right to remember this very day!
A14: me this time ➔
A15: Sleep and Rest | G15: Date: | H15: 44927
A16: Monday | B16: Tuesday | C16: Wednesday | D16: Thursday | E16: Friday | F16: Saturday | G16: Sunday | H16: Note
A17: 8 hours | B17: 7 hours | C17: 8 hours | D17: 7 hours | E17: 8 hours | F17: 7 hours | G17: 7 hours | H17: Sleep pattern
A18: ✓ | C18: ✓ | E18: ✓ | G18: ✓ | H18: Rest day
A19: Note section and record the training here
A20: Supplements: Vitamins Water 500ml x 2, Whey Protein Isolation 300ml. Buy and drink more raw milk.
A21: Injury and Recovery: Rest more than two days to feel more powerful.
A22: Rest: Sleep average 6 hours, restless an hour, must practice sleep sooner and have more deep sleep.
A23: Goal: Reach the highest level next month

Sheet Benchmarking Data
A1: Use this to set your excersice goal | G1: Your information box
A2: A suggestion based on the given body weight | B2: ='Body Building Tracker'!$B$4*1 -> 60 | C2: ='Body Building Tracker'!$B$4*1.5 -> 90 | D2: ='Body Building Tracker'!$B$4*2 -> 120 | E2: ='Body Building Tracker'!$B$4*3 -> 180 | G2: Unit of Measure | H2: Kilogram
A3: Excercise Name | B3: Level 1 | C3: Level 2 | D3: Level "Serious" | E3: Level "VIP"
A4: Bench Press | B4: 10 | C4: =70 -> 70 | D4: 100 | E4: 130
A5: Machine Chest Press | B5: 40 | C5: =100*1.5 -> 150 | D5: 150 | E5: 200
A6: Pull Ups | B6: 1 | C6: 15 | D6: 25 | E6: 37
A7: Machine Chest Fly | B7: 30 | C7: 90 | D7: 170 | E7: 200
A8: Machine Shoulder Press | B8: 50 | C8: 120 | D8: 170 | E8: 220
